BEGIN:VCALENDAR
VERSION:2.0
PRODID:-//Gattaiola - ECPv6.15.20//NONSGML v1.0//EN
CALSCALE:GREGORIAN
METHOD:PUBLISH
X-ORIGINAL-URL:https://gattaiola.it
X-WR-CALDESC:Eventi per Gattaiola
REFRESH-INTERVAL;VALUE=DURATION:PT1H
X-Robots-Tag:noindex
X-PUBLISHED-TTL:PT1H
BEGIN:VTIMEZONE
TZID:Europe/Rome
BEGIN:DAYLIGHT
TZOFFSETFROM:+0100
TZOFFSETTO:+0200
TZNAME:CEST
DTSTART:20240331T010000
END:DAYLIGHT
BEGIN:STANDARD
TZOFFSETFROM:+0200
TZOFFSETTO:+0100
TZNAME:CET
DTSTART:20241027T010000
END:STANDARD
BEGIN:DAYLIGHT
TZOFFSETFROM:+0100
TZOFFSETTO:+0200
TZNAME:CEST
DTSTART:20250330T010000
END:DAYLIGHT
BEGIN:STANDARD
TZOFFSETFROM:+0200
TZOFFSETTO:+0100
TZNAME:CET
DTSTART:20251026T010000
END:STANDARD
BEGIN:DAYLIGHT
TZOFFSETFROM:+0100
TZOFFSETTO:+0200
TZNAME:CEST
DTSTART:20260329T010000
END:DAYLIGHT
BEGIN:STANDARD
TZOFFSETFROM:+0200
TZOFFSETTO:+0100
TZNAME:CET
DTSTART:20261025T010000
END:STANDARD
BEGIN:DAYLIGHT
TZOFFSETFROM:+0100
TZOFFSETTO:+0200
TZNAME:CEST
DTSTART:20270328T010000
END:DAYLIGHT
BEGIN:STANDARD
TZOFFSETFROM:+0200
TZOFFSETTO:+0100
TZNAME:CET
DTSTART:20271031T010000
END:STANDARD
END:VTIMEZONE
BEGIN:VEVENT
DTSTART;TZID=Europe/Rome:20250531T090000
DTEND;TZID=Europe/Rome:20250602T190000
DTSTAMP:20260421T212524
CREATED:20250131T154421Z
LAST-MODIFIED:20250131T154438Z
UID:14082-1748682000-1748890800@gattaiola.it
SUMMARY:Ludicomix: a Empoli la 20ma edizione
DESCRIPTION:Per la 20° edizione\, Ludicomix riempirà 3 giorni di eventi\, fumetti\, cosplay\, videogiochi e tanto altro a Empoli dal 31 maggio al 2 giugno.
URL:https://gattaiola.it/event/ludicomix-20ma-edizione/
LOCATION:Empoli\, Empoli
CATEGORIES:Eventi
END:VEVENT
BEGIN:VEVENT
DTSTART;TZID=Europe/Rome:20250830T100000
DTEND;TZID=Europe/Rome:20250831T200000
DTSTAMP:20260421T212524
CREATED:20250530T062232Z
LAST-MODIFIED:20250530T062232Z
UID:14513-1756548000-1756670400@gattaiola.it
SUMMARY:GnoccoCON
DESCRIPTION:Convention dedicata ai giochi di ruolo moderni. La sua prima edizione si è tenuta nel 2009\, e da allora la formula è rimasta sempre la stessa: gioco\, divertimento e relax in un parco in provincia di Reggio Emilia.
URL:https://gattaiola.it/event/gnoccocon/
LOCATION:Centro sociale di Biasola\, Via S. Rigo\, 1\, Reggio Emilia\, RE\, 42123\, Italy
CATEGORIES:Eventi
END:VEVENT
BEGIN:VEVENT
DTSTART;TZID=Europe/Rome:20251029T090000
DTEND;TZID=Europe/Rome:20251102T190000
DTSTAMP:20260421T212524
CREATED:20241203T211921Z
LAST-MODIFIED:20241203T215810Z
UID:13949-1761728400-1762110000@gattaiola.it
SUMMARY:Lucca Comics&Games 2025 - 58ma edizione
DESCRIPTION:
URL:https://gattaiola.it/event/lucca-comicsgames-58ma-edizione/
LOCATION:Lucca\, Lucca\, 55100\, Italia
CATEGORIES:Eventi
END:VEVENT
BEGIN:VEVENT
DTSTART;TZID=Europe/Rome:20260410T100000
DTEND;TZID=Europe/Rome:20260510T190000
DTSTAMP:20260421T212524
CREATED:20260319T221249Z
LAST-MODIFIED:20260319T221249Z
UID:15674-1775815200-1778439600@gattaiola.it
SUMMARY:0-99. Design per gioco
DESCRIPTION:In occasione della Milano Design Week 2026\, Palazzo Arese Borromeo a Cesano Maderno (MB) ospita 0-99. Design per gioco: la mostra che esplora il gioco da tavolo come prodotto culturale nella sua evoluzione nel tempo.
URL:https://gattaiola.it/event/0-99-design-per-gioco/
LOCATION:Palazzo Arese Borromeo
CATEGORIES:Eventi
END:VEVENT
BEGIN:VEVENT
DTSTART;TZID=Europe/Rome:20260605T080000
DTEND;TZID=Europe/Rome:20260607T220000
DTSTAMP:20260421T212524
CREATED:20260312T210715Z
LAST-MODIFIED:20260312T223239Z
UID:15586-1780646400-1780869600@gattaiola.it
SUMMARY:Urbino in Gioco - Giornata mondiale del gioco - 11ma edizione
DESCRIPTION:“Fare giocare” è il tema sia della manifestazione che del festival del giornalismo ludico al suo interno\, che torna per la seconda edizione. \n\n\n\n 
URL:https://gattaiola.it/event/urbino-in-gioco-giornata-mondiale-del-gioco-11ma-edizione/
LOCATION:Fortezza degli Albornoz\, Urbino\, Italy
CATEGORIES:Eventi
END:VEVENT
BEGIN:VEVENT
DTSTART;TZID=Europe/Rome:20260807T100000
DTEND;TZID=Europe/Rome:20260810T190000
DTSTAMP:20260421T212524
CREATED:20260121T081920Z
LAST-MODIFIED:20260121T081920Z
UID:15453-1786096800-1786388400@gattaiola.it
SUMMARY:GiocAosta 2026
DESCRIPTION:dal 7 al 10 agosto 2026 la 18esima edizione della manifestazione
URL:https://gattaiola.it/event/giocaosta-2026/
CATEGORIES:Eventi
END:VEVENT
END:VCALENDAR