BEGIN:VCALENDAR
VERSION:2.0
PRODID:-//Gattaiola - ECPv6.15.20//NONSGML v1.0//EN
CALSCALE:GREGORIAN
METHOD:PUBLISH
X-ORIGINAL-URL:https://gattaiola.it
X-WR-CALDESC:Eventi per Gattaiola
REFRESH-INTERVAL;VALUE=DURATION:PT1H
X-Robots-Tag:noindex
X-PUBLISHED-TTL:PT1H
BEGIN:VTIMEZONE
TZID:Europe/Rome
BEGIN:DAYLIGHT
TZOFFSETFROM:+0100
TZOFFSETTO:+0200
TZNAME:CEST
DTSTART:20240331T010000
END:DAYLIGHT
BEGIN:STANDARD
TZOFFSETFROM:+0200
TZOFFSETTO:+0100
TZNAME:CET
DTSTART:20241027T010000
END:STANDARD
BEGIN:DAYLIGHT
TZOFFSETFROM:+0100
TZOFFSETTO:+0200
TZNAME:CEST
DTSTART:20250330T010000
END:DAYLIGHT
BEGIN:STANDARD
TZOFFSETFROM:+0200
TZOFFSETTO:+0100
TZNAME:CET
DTSTART:20251026T010000
END:STANDARD
BEGIN:DAYLIGHT
TZOFFSETFROM:+0100
TZOFFSETTO:+0200
TZNAME:CEST
DTSTART:20260329T010000
END:DAYLIGHT
BEGIN:STANDARD
TZOFFSETFROM:+0200
TZOFFSETTO:+0100
TZNAME:CET
DTSTART:20261025T010000
END:STANDARD
END:VTIMEZONE
BEGIN:VEVENT
DTSTART;TZID=Europe/Rome:20250322T090000
DTEND;TZID=Europe/Rome:20250323T190000
DTSTAMP:20260421T221550
CREATED:20241206T084853Z
LAST-MODIFIED:20241206T084853Z
UID:13969-1742634000-1742756400@gattaiola.it
SUMMARY:FroggyCon III
DESCRIPTION:Il ritrovo di gioco di ruolo per rane cosmiche! \n“La FroggyCon è un ritrovo annuale di giocatori di ruolo per celebrare la curiosità\, l’imprevedibilità e l’espressione personale. Ma soprattutto per giocare! \nCi siamo ritrovati\, giocatori e giocatrici di diverse provenienze e culture di gioco\, in dei valori comuni\, che vedono il giocare come un mezzo per esprimersi e comunicare\, senza aspettative o ansie di prestazione. \nLa FroggyCon è aperta a ogni livello di esperienza\, ma è appositamente pensata per essere accessibile a chi è alle prime armi. Si giocano giochi vecchissimi o nuovissimi\, commerciali o casalinghi\, superando tribù\, categorie e generi. Quel che conta è la volontà di mettersi in gioco\, con le persone che si ha davanti\, e trovare il divertimento con loro.” \ndalla home del sito
URL:https://gattaiola.it/event/froggycon-iii/
LOCATION:Pieve di Cologno Monzese\, Milano\, Italy
CATEGORIES:Eventi
END:VEVENT
END:VCALENDAR